BEGIN:VCALENDAR
VERSION:2.0
PRODID:-//Hampton Roads Jazz Incorporated - ECPv6.15.17//NONSGML v1.0//EN
CALSCALE:GREGORIAN
METHOD:PUBLISH
X-WR-CALNAME:Hampton Roads Jazz Incorporated
X-ORIGINAL-URL:https://hrjazz.org
X-WR-CALDESC:Events for Hampton Roads Jazz Incorporated
REFRESH-INTERVAL;VALUE=DURATION:PT1H
X-Robots-Tag:noindex
X-PUBLISHED-TTL:PT1H
BEGIN:VTIMEZONE
TZID:America/New_York
BEGIN:DAYLIGHT
TZOFFSETFROM:-0500
TZOFFSETTO:-0400
TZNAME:EDT
DTSTART:20240310T070000
END:DAYLIGHT
BEGIN:STANDARD
TZOFFSETFROM:-0400
TZOFFSETTO:-0500
TZNAME:EST
DTSTART:20241103T060000
END:STANDARD
BEGIN:DAYLIGHT
TZOFFSETFROM:-0500
TZOFFSETTO:-0400
TZNAME:EDT
DTSTART:20250309T070000
END:DAYLIGHT
BEGIN:STANDARD
TZOFFSETFROM:-0400
TZOFFSETTO:-0500
TZNAME:EST
DTSTART:20251102T060000
END:STANDARD
BEGIN:DAYLIGHT
TZOFFSETFROM:-0500
TZOFFSETTO:-0400
TZNAME:EDT
DTSTART:20260308T070000
END:DAYLIGHT
BEGIN:STANDARD
TZOFFSETFROM:-0400
TZOFFSETTO:-0500
TZNAME:EST
DTSTART:20261101T060000
END:STANDARD
END:VTIMEZONE
BEGIN:VEVENT
DTSTART;TZID=America/New_York:20250920T193000
DTEND;TZID=America/New_York:20250920T203000
DTSTAMP:20260424T081200
CREATED:20250909T143246Z
LAST-MODIFIED:20250909T143556Z
UID:3680-1758396600-1758400200@hrjazz.org
SUMMARY:HR Jazz presents The Latin Jazz Conspiracy
DESCRIPTION:HR Jazz presents The Latin Jazz Conspiracy \nFeaturing Steve Anderson & Jae Sinnet \n \nSeptember 20th @ 7:30 PM Zeiders American Dream Theater\, Virginia Beach Town Centers\, Admission: FREE
URL:https://hrjazz.org/event/hr-jazz-presents-the-latin-jazz-conspiracy/
LOCATION:Zeiders American Dream Theater\, 4509 Commerce St\, Virginia Beach\, VA\, 23462\, United States
ATTACH;FMTTYPE=image/jpeg:https://hrjazz.org/wp-content/uploads/2025/09/ZeidersAmericanDreamTheater.jpg
END:VEVENT
BEGIN:VEVENT
DTSTART;TZID=America/New_York:20250926T193000
DTEND;TZID=America/New_York:20250926T220000
DTSTAMP:20260424T081200
CREATED:20250709T155449Z
LAST-MODIFIED:20250821T185440Z
UID:3652-1758915000-1758924000@hrjazz.org
SUMMARY:2025 Phoebus Jazz Festival
DESCRIPTION:HR Jazz presents The 2025 Phoebus Jazz Festival (September 26th and 27th) \nPurchase tickets thru Ticketmaster \nSeptember 26th\nSteve Smith & Vital Information feat. Manuel Valera and Janek Gwizdala\n\nLatin Jazz Conspiracy\n\n \n 
URL:https://hrjazz.org/event/2025-phoebus-jazz-festival/
LOCATION:The American Theatre\, 25 E. Mellen St.\, Hampton\, VA\, 23663\, United States
ATTACH;FMTTYPE=image/jpeg:https://hrjazz.org/wp-content/uploads/2025/08/phoebusjazzfestivalflyer.jpg
END:VEVENT
BEGIN:VEVENT
DTSTART;TZID=America/New_York:20250927T073000
DTEND;TZID=America/New_York:20250927T220000
DTSTAMP:20260424T081200
CREATED:20250709T155859Z
LAST-MODIFIED:20250815T133252Z
UID:3655-1758958200-1759010400@hrjazz.org
SUMMARY:2025 Phoebus Jazz Festival
DESCRIPTION:HR Jazz presents The 2025 Phoebus Jazz Festival (September 26th and 27th) \nPurchase tickets thru Ticketmaster \nSeptember 27th\nEric Marienthal  \n \nMichael Hawkins & The Brotherhood
URL:https://hrjazz.org/event/3655/
LOCATION:The American Theatre\, 25 E. Mellen St.\, Hampton\, VA\, 23663\, United States
ATTACH;FMTTYPE=image/jpeg:https://hrjazz.org/wp-content/uploads/2025/08/phoebusjazzfestivalflyer.jpg
END:VEVENT
END:VCALENDAR