BEGIN:VCALENDAR
VERSION:2.0
PRODID:-//Hampton Roads Jazz Incorporated - ECPv6.15.17//NONSGML v1.0//EN
CALSCALE:GREGORIAN
METHOD:PUBLISH
X-ORIGINAL-URL:https://hrjazz.org
X-WR-CALDESC:Events for Hampton Roads Jazz Incorporated
REFRESH-INTERVAL;VALUE=DURATION:PT1H
X-Robots-Tag:noindex
X-PUBLISHED-TTL:PT1H
BEGIN:VTIMEZONE
TZID:America/New_York
BEGIN:DAYLIGHT
TZOFFSETFROM:-0500
TZOFFSETTO:-0400
TZNAME:EDT
DTSTART:20240310T070000
END:DAYLIGHT
BEGIN:STANDARD
TZOFFSETFROM:-0400
TZOFFSETTO:-0500
TZNAME:EST
DTSTART:20241103T060000
END:STANDARD
BEGIN:DAYLIGHT
TZOFFSETFROM:-0500
TZOFFSETTO:-0400
TZNAME:EDT
DTSTART:20250309T070000
END:DAYLIGHT
BEGIN:STANDARD
TZOFFSETFROM:-0400
TZOFFSETTO:-0500
TZNAME:EST
DTSTART:20251102T060000
END:STANDARD
BEGIN:DAYLIGHT
TZOFFSETFROM:-0500
TZOFFSETTO:-0400
TZNAME:EDT
DTSTART:20260308T070000
END:DAYLIGHT
BEGIN:STANDARD
TZOFFSETFROM:-0400
TZOFFSETTO:-0500
TZNAME:EST
DTSTART:20261101T060000
END:STANDARD
END:VTIMEZONE
BEGIN:VEVENT
DTSTART;TZID=America/New_York:20250503T200000
DTEND;TZID=America/New_York:20250503T220000
DTSTAMP:20260424T151440
CREATED:20250310T150239Z
LAST-MODIFIED:20250414T171859Z
UID:3582-1746302400-1746309600@hrjazz.org
SUMMARY:CNU's Ferguson Center - Peebles Theatre
DESCRIPTION:The Yellowjackets with Vocalist Kenny Washington opening the show. \nTickets are available thru the Ferguson Center for the Arts \n 
URL:https://hrjazz.org/event/cnus-ferguson-center-peebles-theatre/
LOCATION:CNU Ferguson Center\, 1 Avenue of the Arts\, Newport News\, VA\, 23606\, United States
CATEGORIES:Upcoming Events
ATTACH;FMTTYPE=image/jpeg:https://hrjazz.org/wp-content/uploads/2025/03/theyellowjackets.jpg
END:VEVENT
BEGIN:VEVENT
DTSTART;TZID=America/New_York:20250508T200000
DTEND;TZID=America/New_York:20250508T213000
DTSTAMP:20260424T151440
CREATED:20250310T150415Z
LAST-MODIFIED:20250414T171926Z
UID:3585-1746734400-1746739800@hrjazz.org
SUMMARY:CNU's Ferguson Center - Peebles Theatre
DESCRIPTION:The Ella Fitzgerald Vocal Jazz Summit with  NAACP Image Award Nominee Vanessa Rubin and Multi Grammy Nominated Singers Tierney Sutton and Rene Marie! \nTickets are available thru the Ferguson Center for the Arts
URL:https://hrjazz.org/event/cnus-ferguson-center-peebles-theatre-2/
LOCATION:CNU Ferguson Center\, 1 Avenue of the Arts\, Newport News\, VA\, 23606\, United States
CATEGORIES:Upcoming Events
ATTACH;FMTTYPE=image/jpeg:https://hrjazz.org/wp-content/uploads/2025/03/vanessarubin.jpg
END:VEVENT
BEGIN:VEVENT
DTSTART;TZID=America/New_York:20250509T200000
DTEND;TZID=America/New_York:20250509T213000
DTSTAMP:20260424T151440
CREATED:20250310T150544Z
LAST-MODIFIED:20250414T172115Z
UID:3588-1746820800-1746826200@hrjazz.org
SUMMARY:Downing Gross Cultural Arts Center
DESCRIPTION:Multi Grammy Nominated Vocalist Roberta Gambarini and Opening is “Ladies of Song Contest” winner Brittany Burrell \nTickets are available thru Eventbrite
URL:https://hrjazz.org/event/downing-gross-cultural-arts-center-2/
LOCATION:Downing Gross Cultural Arts Center\, 2410 Wickham Ave\, Newport News\, VA\, 23607\, United States
CATEGORIES:Upcoming Events
ATTACH;FMTTYPE=image/jpeg:https://hrjazz.org/wp-content/uploads/2025/03/robertagambarini.jpg
END:VEVENT
BEGIN:VEVENT
DTSTART;TZID=America/New_York:20250510T193000
DTEND;TZID=America/New_York:20250510T213000
DTSTAMP:20260424T151440
CREATED:20250310T150912Z
LAST-MODIFIED:20250414T172132Z
UID:3591-1746905400-1746912600@hrjazz.org
SUMMARY:Reformation Lutheran Church
DESCRIPTION:Reformation Lutheran Church – Warwick Blvd – Vocalist Liz Terrell Brydge – with pianist Allen Farnham\, bassist Chris Brydge and drummer Jae Sinnett \nTickets are available thru Eventbrite \n  \n 
URL:https://hrjazz.org/event/reformation-lutheran-church/
LOCATION:Reformation Lutheran Church\, 13100 Warwick Blvd\, Newport News\, VA\, 23602\, United States
CATEGORIES:Upcoming Events
ATTACH;FMTTYPE=image/jpeg:https://hrjazz.org/wp-content/uploads/2025/03/lizterrellbrydge.jpg
END:VEVENT
END:VCALENDAR