BEGIN:VCALENDAR
VERSION:2.0
PRODID:-//Hampton Roads Jazz Incorporated - ECPv6.15.17//NONSGML v1.0//EN
CALSCALE:GREGORIAN
METHOD:PUBLISH
X-ORIGINAL-URL:https://hrjazz.org
X-WR-CALDESC:Events for Hampton Roads Jazz Incorporated
REFRESH-INTERVAL;VALUE=DURATION:PT1H
X-Robots-Tag:noindex
X-PUBLISHED-TTL:PT1H
BEGIN:VTIMEZONE
TZID:America/New_York
BEGIN:DAYLIGHT
TZOFFSETFROM:-0500
TZOFFSETTO:-0400
TZNAME:EDT
DTSTART:20250309T070000
END:DAYLIGHT
BEGIN:STANDARD
TZOFFSETFROM:-0400
TZOFFSETTO:-0500
TZNAME:EST
DTSTART:20251102T060000
END:STANDARD
BEGIN:DAYLIGHT
TZOFFSETFROM:-0500
TZOFFSETTO:-0400
TZNAME:EDT
DTSTART:20260308T070000
END:DAYLIGHT
BEGIN:STANDARD
TZOFFSETFROM:-0400
TZOFFSETTO:-0500
TZNAME:EST
DTSTART:20261101T060000
END:STANDARD
BEGIN:DAYLIGHT
TZOFFSETFROM:-0500
TZOFFSETTO:-0400
TZNAME:EDT
DTSTART:20270314T070000
END:DAYLIGHT
BEGIN:STANDARD
TZOFFSETFROM:-0400
TZOFFSETTO:-0500
TZNAME:EST
DTSTART:20271107T060000
END:STANDARD
END:VTIMEZONE
BEGIN:VEVENT
DTSTART;TZID=America/New_York:20260205T180000
DTEND;TZID=America/New_York:20260205T190000
DTSTAMP:20260424T013033
CREATED:20251211T154332Z
LAST-MODIFIED:20251211T154332Z
UID:3717-1770314400-1770318000@hrjazz.org
SUMMARY:HR Jazz Lecture Series: Dr. Tammy Kernodle
DESCRIPTION:HR Jazz is proud to present the HR Jazz Lecture Series. Throughout February ’26 join us for insightful lectures about Jazz and music from accredited professors and directors. \n  \nOn February 5th we have the pleasure of hosting Dr. Tammy Kernodle\, a University Distinguished Professor of Music from the Miami University in Oxford\, OH. \n 
URL:https://hrjazz.org/event/hr-jazz-lecture-series-dr-tammy-kernodle/
LOCATION:Hampton History Museum\, 120 Old Hampton Lane\, Hampton\, VA\, United States
CATEGORIES:Upcoming Events
ATTACH;FMTTYPE=image/jpeg:https://hrjazz.org/wp-content/uploads/2025/12/lectureseries.jpg
END:VEVENT
END:VCALENDAR