BEGIN:VCALENDAR
VERSION:2.0
PRODID:-//Hampton Roads Jazz Incorporated - ECPv6.15.17//NONSGML v1.0//EN
CALSCALE:GREGORIAN
METHOD:PUBLISH
X-ORIGINAL-URL:https://hrjazz.org
X-WR-CALDESC:Events for Hampton Roads Jazz Incorporated
REFRESH-INTERVAL;VALUE=DURATION:PT1H
X-Robots-Tag:noindex
X-PUBLISHED-TTL:PT1H
BEGIN:VTIMEZONE
TZID:America/New_York
BEGIN:DAYLIGHT
TZOFFSETFROM:-0500
TZOFFSETTO:-0400
TZNAME:EDT
DTSTART:20240310T070000
END:DAYLIGHT
BEGIN:STANDARD
TZOFFSETFROM:-0400
TZOFFSETTO:-0500
TZNAME:EST
DTSTART:20241103T060000
END:STANDARD
BEGIN:DAYLIGHT
TZOFFSETFROM:-0500
TZOFFSETTO:-0400
TZNAME:EDT
DTSTART:20250309T070000
END:DAYLIGHT
BEGIN:STANDARD
TZOFFSETFROM:-0400
TZOFFSETTO:-0500
TZNAME:EST
DTSTART:20251102T060000
END:STANDARD
BEGIN:DAYLIGHT
TZOFFSETFROM:-0500
TZOFFSETTO:-0400
TZNAME:EDT
DTSTART:20260308T070000
END:DAYLIGHT
BEGIN:STANDARD
TZOFFSETFROM:-0400
TZOFFSETTO:-0500
TZNAME:EST
DTSTART:20261101T060000
END:STANDARD
END:VTIMEZONE
BEGIN:VEVENT
DTSTART;TZID=America/New_York:20250920T193000
DTEND;TZID=America/New_York:20250920T203000
DTSTAMP:20260424T100727
CREATED:20250909T143246Z
LAST-MODIFIED:20250909T143556Z
UID:3680-1758396600-1758400200@hrjazz.org
SUMMARY:HR Jazz presents The Latin Jazz Conspiracy
DESCRIPTION:HR Jazz presents The Latin Jazz Conspiracy \nFeaturing Steve Anderson & Jae Sinnet \n \nSeptember 20th @ 7:30 PM Zeiders American Dream Theater\, Virginia Beach Town Centers\, Admission: FREE
URL:https://hrjazz.org/event/hr-jazz-presents-the-latin-jazz-conspiracy/
LOCATION:Zeiders American Dream Theater\, 4509 Commerce St\, Virginia Beach\, VA\, 23462\, United States
ATTACH;FMTTYPE=image/jpeg:https://hrjazz.org/wp-content/uploads/2025/09/ZeidersAmericanDreamTheater.jpg
END:VEVENT
END:VCALENDAR