BEGIN:VCALENDAR
VERSION:2.0
PRODID:-//Hampton Roads Jazz Incorporated - ECPv6.15.17//NONSGML v1.0//EN
CALSCALE:GREGORIAN
METHOD:PUBLISH
X-ORIGINAL-URL:https://hrjazz.org
X-WR-CALDESC:Events for Hampton Roads Jazz Incorporated
REFRESH-INTERVAL;VALUE=DURATION:PT1H
X-Robots-Tag:noindex
X-PUBLISHED-TTL:PT1H
BEGIN:VTIMEZONE
TZID:America/New_York
BEGIN:DAYLIGHT
TZOFFSETFROM:-0500
TZOFFSETTO:-0400
TZNAME:EDT
DTSTART:20240310T070000
END:DAYLIGHT
BEGIN:STANDARD
TZOFFSETFROM:-0400
TZOFFSETTO:-0500
TZNAME:EST
DTSTART:20241103T060000
END:STANDARD
BEGIN:DAYLIGHT
TZOFFSETFROM:-0500
TZOFFSETTO:-0400
TZNAME:EDT
DTSTART:20250309T070000
END:DAYLIGHT
BEGIN:STANDARD
TZOFFSETFROM:-0400
TZOFFSETTO:-0500
TZNAME:EST
DTSTART:20251102T060000
END:STANDARD
BEGIN:DAYLIGHT
TZOFFSETFROM:-0500
TZOFFSETTO:-0400
TZNAME:EDT
DTSTART:20260308T070000
END:DAYLIGHT
BEGIN:STANDARD
TZOFFSETFROM:-0400
TZOFFSETTO:-0500
TZNAME:EST
DTSTART:20261101T060000
END:STANDARD
END:VTIMEZONE
BEGIN:VEVENT
DTSTART;TZID=America/New_York:20250508T200000
DTEND;TZID=America/New_York:20250508T213000
DTSTAMP:20260424T170113
CREATED:20250310T150415Z
LAST-MODIFIED:20250414T171926Z
UID:3585-1746734400-1746739800@hrjazz.org
SUMMARY:CNU's Ferguson Center - Peebles Theatre
DESCRIPTION:The Ella Fitzgerald Vocal Jazz Summit with  NAACP Image Award Nominee Vanessa Rubin and Multi Grammy Nominated Singers Tierney Sutton and Rene Marie! \nTickets are available thru the Ferguson Center for the Arts
URL:https://hrjazz.org/event/cnus-ferguson-center-peebles-theatre-2/
LOCATION:CNU Ferguson Center\, 1 Avenue of the Arts\, Newport News\, VA\, 23606\, United States
CATEGORIES:Upcoming Events
ATTACH;FMTTYPE=image/jpeg:https://hrjazz.org/wp-content/uploads/2025/03/vanessarubin.jpg
END:VEVENT
END:VCALENDAR